BEGIN:VCALENDAR
VERSION:2.0
PRODID:-//Unitre San Mauro//NONSGML kigkonsult.se iCalcreator 2.30.10//
CALSCALE:GREGORIAN
METHOD:PUBLISH
UID:1115aff1-7e3a-47bd-8e2b-be6c78a5462b
X-WR-CALNAME:iCagenda
X-WR-CALDESC:Event Management Extension for Joomla!
X-WR-RELCALID:3E26604A-50F4-4449-8B3E-E4F4932D05B5
X-WR-TIMEZONE:UTC
BEGIN:VTIMEZONE
TZID:UTC
END:VTIMEZONE
BEGIN:VEVENT
UID:a3cde234-466c-42a4-a6b9-3acbc72c4608
DTSTAMP:20260419T195828Z
CATEGORIES:Attività e movimento
CLASS:PUBLIC
DESCRIPTION;ALTREP="CID:<FFFF__=0ABBE548DFE235B58f9e8a93d@coffeebean.com>":
 Docente Stefano Sarti17.00 - 18.00Corso a Numero Chiuso\nIl Tai Chi è spes
 so descritto come&nbsp\;“meditazione in movimento”.&nbsp\;Si tratta infatt
 i di un’arte marziale interna&nbsp\;che coinvolge sia la&nbsp\;mente&nbsp\
 ;che il&nbsp\;corpo.\nIn cinese\, il termine&nbsp\;Tai&nbsp\;significa “gr
 ande” o “supremo”\, mentre&nbsp\;Chi&nbsp\;significa “principio” o “culmin
 e”. Infine\,&nbsp\;Chuan&nbsp\;è il vocabolo per indicare il pugno o il pa
 lmo della mano. Il termine si può sommariamente tradurre come “principio s
 upremo”.\nIl Tai Chi è esteticamente piacevole e stimolante da praticare\,
  per questo incontra spesso l’interesse di chi cerca una disciplina fisica
  facile da approcciare. Può essere una&nbsp\;meditazione&nbsp\;e un&nbsp\;
 esercizio integrale&nbsp\;per tutte le parti del corpo e della mente.
DTSTART:20260209T173000Z
DTEND:20260209T173000Z
GEO:00;0
LOCATION:
ORGANIZER:
SEQUENCE:1
SUMMARY:TAI CHI CHUAN ( corso a numero chiuso) - c/o Piscina Gramsci\, via 
 del porto 13\, San Mauro - Palestra Piccola
TRANSP:OPAQUE
URL:http://www.unitresanmauro.it/index.php/component/icagenda/99-tai-chi-ch
 uan/2026-02-09-17-30
END:VEVENT
END:VCALENDAR
