BEGIN:VCALENDAR
VERSION:2.0
PRODID:-//Unitre San Mauro//NONSGML kigkonsult.se iCalcreator 2.30.10//
CALSCALE:GREGORIAN
METHOD:PUBLISH
UID:bd212550-0f8c-416b-a8d8-832b625d7ac7
X-WR-CALNAME:iCagenda
X-WR-CALDESC:Event Management Extension for Joomla!
X-WR-RELCALID:3E26604A-50F4-4449-8B3E-E4F4932D05B5
X-WR-TIMEZONE:UTC
BEGIN:VTIMEZONE
TZID:UTC
END:VTIMEZONE
BEGIN:VEVENT
UID:14fc9692-3b09-4c74-9278-bb246f68e13f
DTSTAMP:20260424T040023Z
CATEGORIES:Lingue straniere
CLASS:PUBLIC
DESCRIPTION:
DTSTART:20260428T144500Z
DTEND:20260428T144500Z
GEO:00;0
LOCATION:
ORGANIZER:
SEQUENCE:1
SUMMARY:Tedesco: 4° livello (corso a numero chiuso)
TRANSP:OPAQUE
URL:https://www.unitresanmauro.it/index.php/calendario/102-tedesco-4-livell
 o/2026-04-28-14-45
END:VEVENT
END:VCALENDAR
