BEGIN:VCALENDAR
VERSION:2.0
PRODID:-//Unitre San Mauro//NONSGML kigkonsult.se iCalcreator 2.30.10//
CALSCALE:GREGORIAN
METHOD:PUBLISH
UID:7b4db3e0-e027-41ba-b8b4-61df82d20ac7
X-WR-CALNAME:iCagenda
X-WR-CALDESC:Event Management Extension for Joomla!
X-WR-RELCALID:3E26604A-50F4-4449-8B3E-E4F4932D05B5
X-WR-TIMEZONE:UTC
BEGIN:VTIMEZONE
TZID:UTC
END:VTIMEZONE
BEGIN:VEVENT
UID:21a76832-f0ee-42f2-acc1-96da560507ae
DTSTAMP:20260424T155507Z
CATEGORIES:Corsi e incontri
CLASS:PUBLIC
DESCRIPTION:
DTSTART:20260424T160000Z
DTEND:20260424T160000Z
GEO:00;0
LOCATION:
ORGANIZER:
SEQUENCE:1
SUMMARY:meccanica quantistica\, tra mistero e realtà
TRANSP:OPAQUE
URL:https://www.unitresanmauro.it/index.php/calendario/122-meccanica-quanti
 stica-questa-sconosciuta/2026-04-24-16-00
END:VEVENT
END:VCALENDAR
