BEGIN:VCALENDAR
VERSION:2.0
PRODID:-//Unitre San Mauro//NONSGML kigkonsult.se iCalcreator 2.30.10//
CALSCALE:GREGORIAN
METHOD:PUBLISH
UID:714475bf-a97c-4934-b1cf-7d38f0d632bd
X-WR-CALNAME:iCagenda
X-WR-CALDESC:Event Management Extension for Joomla!
X-WR-RELCALID:3E26604A-50F4-4449-8B3E-E4F4932D05B5
X-WR-TIMEZONE:UTC
BEGIN:VTIMEZONE
TZID:UTC
END:VTIMEZONE
BEGIN:VEVENT
UID:9135d727-a0af-4849-99a8-b3d2c065ab2a
DTSTAMP:20260424T061900Z
CATEGORIES:Attività e movimento
CLASS:PUBLIC
DESCRIPTION:
DTSTART:20260430T093000Z
DTEND:20260430T093000Z
GEO:00;0
LOCATION:
ORGANIZER:
SEQUENCE:1
SUMMARY:Meditazione dinamica ( corso a numero chiuso) - c/o Piscina Gramsci
 \, via del porto 13\, San Mauro - Palestra Grande
TRANSP:OPAQUE
URL:https://www.unitresanmauro.it/index.php/calendario/125-meditazione-dina
 mica-corso-a-numero-chiuso/2026-04-30-09-30
END:VEVENT
END:VCALENDAR
