BEGIN:VCALENDAR
VERSION:2.0
PRODID:-//Unitre San Mauro//NONSGML kigkonsult.se iCalcreator 2.30.10//
CALSCALE:GREGORIAN
METHOD:PUBLISH
UID:21b64156-ab1e-4bfe-a46c-7b10ad487f40
X-WR-CALNAME:iCagenda
X-WR-CALDESC:Event Management Extension for Joomla!
X-WR-RELCALID:3E26604A-50F4-4449-8B3E-E4F4932D05B5
X-WR-TIMEZONE:UTC
BEGIN:VTIMEZONE
TZID:UTC
END:VTIMEZONE
BEGIN:VEVENT
UID:74be5930-fdaa-4ac0-8350-9606414526e2
DTSTAMP:20260424T175436Z
CATEGORIES:Attività e movimento
CLASS:PUBLIC
DESCRIPTION:
DTSTART:20260505T093000Z
DTEND:20260505T093000Z
GEO:00;0
LOCATION:
ORGANIZER:
SEQUENCE:1
SUMMARY:Biodanza : Corso avanzato ( corso a numero chiuso) - c/o Piscina Gr
 amsci\, via del porto 13\, San Mauro - Palestra Grande
TRANSP:OPAQUE
URL:https://www.unitresanmauro.it/index.php/calendario/126-biodanza-corso-a
 vanzato-corso-a-numero-chiuso/2026-05-05-09-30
END:VEVENT
END:VCALENDAR
