BEGIN:VCALENDAR
VERSION:2.0
PRODID:-//Unitre San Mauro//NONSGML kigkonsult.se iCalcreator 2.30.10//
CALSCALE:GREGORIAN
METHOD:PUBLISH
UID:f2b32d6a-1785-4419-ac92-b759addd6924
X-WR-CALNAME:iCagenda
X-WR-CALDESC:Event Management Extension for Joomla!
X-WR-RELCALID:3E26604A-50F4-4449-8B3E-E4F4932D05B5
X-WR-TIMEZONE:UTC
BEGIN:VTIMEZONE
TZID:UTC
END:VTIMEZONE
BEGIN:VEVENT
UID:3e3dc3d8-e684-4848-8529-ee6105a8f018
DTSTAMP:20260424T035930Z
CATEGORIES:Lingue straniere
CLASS:PUBLIC
DESCRIPTION;ALTREP="CID:<FFFF__=0ABBE548DFE235B58f9e8a93d@coffeebean.com>":
 &nbsp\;\nprimo approccio alla lingua parlata con letture\, comprensione e 
 riproduzione di brevi dialoghi riguardanti la vita quotidiana. Nozioni bas
 e di grammatica&nbsp\;
DTSTART:20260429T144500Z
DTEND:20260429T144500Z
GEO:00;0
LOCATION:
ORGANIZER:
SEQUENCE:1
SUMMARY:Tedesco 1° Livello
TRANSP:OPAQUE
URL:https://www.unitresanmauro.it/index.php/calendario/13-tedesco-1-livello
 /2026-04-29-14-45
END:VEVENT
END:VCALENDAR
