BEGIN:VCALENDAR
VERSION:2.0
PRODID:-//Unitre San Mauro//NONSGML kigkonsult.se iCalcreator 2.30.10//
CALSCALE:GREGORIAN
METHOD:PUBLISH
UID:e71ba07b-1681-41b7-9f93-f38e4a0ef18c
X-WR-CALNAME:iCagenda
X-WR-CALDESC:Event Management Extension for Joomla!
X-WR-RELCALID:3E26604A-50F4-4449-8B3E-E4F4932D05B5
X-WR-TIMEZONE:UTC
BEGIN:VTIMEZONE
TZID:UTC
END:VTIMEZONE
BEGIN:VEVENT
UID:0a792ba6-72ad-47c4-a6fa-5ee8a3992ec7
DTSTAMP:20260424T062241Z
CATEGORIES:Attività e movimento
CLASS:PUBLIC
DESCRIPTION:
DTSTART:20260430T163000Z
DTEND:20260430T163000Z
GEO:00;0
LOCATION:
ORGANIZER:
SEQUENCE:1
SUMMARY:Allenamento funzionale ( corso a numero chiuso) - c/o Piscina Grams
 ci\, via del porto 13\, San Mauro - Palestra Piccola
TRANSP:OPAQUE
URL:https://www.unitresanmauro.it/index.php/calendario/132-allenamento-funz
 ionale-contro-la-perdita-di-massa-muscolare-2-corso-a-numero-chiuso/2026-0
 4-30-16-30
END:VEVENT
END:VCALENDAR
