BEGIN:VCALENDAR
VERSION:2.0
PRODID:-//Unitre San Mauro//NONSGML kigkonsult.se iCalcreator 2.30.10//
CALSCALE:GREGORIAN
METHOD:PUBLISH
UID:e15a5eef-22f4-4fd0-95dc-e4500ff4507b
X-WR-CALNAME:iCagenda
X-WR-CALDESC:Event Management Extension for Joomla!
X-WR-RELCALID:3E26604A-50F4-4449-8B3E-E4F4932D05B5
X-WR-TIMEZONE:UTC
BEGIN:VTIMEZONE
TZID:UTC
END:VTIMEZONE
BEGIN:VEVENT
UID:6239a342-2d82-4926-92af-ae413b32a673
DTSTAMP:20260424T040139Z
CATEGORIES:Lingue straniere
CLASS:PUBLIC
DESCRIPTION:
DTSTART:20260428T093000Z
DTEND:20260428T093000Z
GEO:00;0
LOCATION:
ORGANIZER:
SEQUENCE:1
SUMMARY:Spagnolo 4° livello (corso a numero chiuso)
TRANSP:OPAQUE
URL:https://www.unitresanmauro.it/index.php/calendario/138-spagnolo-4-livel
 lo/2026-04-28-09-30
END:VEVENT
END:VCALENDAR
