BEGIN:VCALENDAR
VERSION:2.0
PRODID:-//Unitre San Mauro//NONSGML kigkonsult.se iCalcreator 2.30.10//
CALSCALE:GREGORIAN
METHOD:PUBLISH
UID:13881369-6cdd-4fda-b36c-026b90c1c3cb
X-WR-CALNAME:iCagenda
X-WR-CALDESC:Event Management Extension for Joomla!
X-WR-RELCALID:3E26604A-50F4-4449-8B3E-E4F4932D05B5
X-WR-TIMEZONE:UTC
BEGIN:VTIMEZONE
TZID:UTC
END:VTIMEZONE
BEGIN:VEVENT
UID:734c6010-8658-4ed5-b2b9-df0ed8308ac1
DTSTAMP:20260424T175518Z
CATEGORIES:Corsi e incontri
CLASS:PUBLIC
DESCRIPTION:
DTSTART:20260505T160000Z
DTEND:20260505T160000Z
GEO:00;0
LOCATION:
ORGANIZER:
SEQUENCE:1
SUMMARY:Passeggiate virtuali per Torino
TRANSP:OPAQUE
URL:https://www.unitresanmauro.it/index.php/calendario/158-passeggiate-virt
 uali-dimore-sabaude-patrimonio-unesco/2026-05-05-16-00
END:VEVENT
END:VCALENDAR
