BEGIN:VCALENDAR
VERSION:2.0
PRODID:-//Unitre San Mauro//NONSGML kigkonsult.se iCalcreator 2.30.10//
CALSCALE:GREGORIAN
METHOD:PUBLISH
UID:b81cf588-e4e5-4365-862c-5d157c579403
X-WR-CALNAME:iCagenda
X-WR-CALDESC:Event Management Extension for Joomla!
X-WR-RELCALID:3E26604A-50F4-4449-8B3E-E4F4932D05B5
X-WR-TIMEZONE:UTC
BEGIN:VTIMEZONE
TZID:UTC
END:VTIMEZONE
BEGIN:VEVENT
UID:391fbb97-f354-4cf6-b745-890bb0dc681d
DTSTAMP:20260424T124642Z
CATEGORIES:Laboratori
CLASS:PUBLIC
DESCRIPTION:
DTSTART:20260428T160000Z
DTEND:20260428T160000Z
GEO:00;0
LOCATION:
ORGANIZER:
SEQUENCE:1
SUMMARY:L'arte dello stencil con il tempera o acrilico (corso a numero chiu
 so)
TRANSP:OPAQUE
URL:https://www.unitresanmauro.it/index.php/calendario/159-larte-dello-sten
 cil-con-il-tempera-o-acrilico/2026-04-28-16-00
END:VEVENT
END:VCALENDAR
