BEGIN:VCALENDAR
VERSION:2.0
PRODID:-//Unitre San Mauro//NONSGML kigkonsult.se iCalcreator 2.30.10//
CALSCALE:GREGORIAN
METHOD:PUBLISH
UID:568a54e3-06ca-4e09-b501-12f723a268ed
X-WR-CALNAME:iCagenda
X-WR-CALDESC:Event Management Extension for Joomla!
X-WR-RELCALID:3E26604A-50F4-4449-8B3E-E4F4932D05B5
X-WR-TIMEZONE:UTC
BEGIN:VTIMEZONE
TZID:UTC
END:VTIMEZONE
BEGIN:VEVENT
UID:ac1abb00-535c-4ede-8411-bdb2f08febb8
DTSTAMP:20260424T155506Z
CATEGORIES:Corsi e incontri
CLASS:PUBLIC
DESCRIPTION:
DTSTART:20260427T093000Z
DTEND:20260427T093000Z
GEO:00;0
LOCATION:
ORGANIZER:
SEQUENCE:1
SUMMARY:Cultura y historia espanola (corso a numero chiuso)
TRANSP:OPAQUE
URL:https://www.unitresanmauro.it/index.php/calendario/184-cultura-y-histor
 ia-espanola-corso-a-numero-chiuso/2026-04-27-09-30
END:VEVENT
END:VCALENDAR
