BEGIN:VCALENDAR
VERSION:2.0
PRODID:-//Unitre San Mauro//NONSGML kigkonsult.se iCalcreator 2.30.10//
CALSCALE:GREGORIAN
METHOD:PUBLISH
UID:a5b2b5d7-ae5e-4bfb-ab7d-ea1d43aba6a8
X-WR-CALNAME:iCagenda
X-WR-CALDESC:Event Management Extension for Joomla!
X-WR-RELCALID:3E26604A-50F4-4449-8B3E-E4F4932D05B5
X-WR-TIMEZONE:UTC
BEGIN:VTIMEZONE
TZID:UTC
END:VTIMEZONE
BEGIN:VEVENT
UID:770b3509-be64-4c2e-85d1-d664b44c7a5e
DTSTAMP:20260424T155506Z
CATEGORIES:Corsi e incontri
CLASS:PUBLIC
DESCRIPTION:
DTSTART:20260427T160000Z
DTEND:20260427T160000Z
GEO:00;0
LOCATION:
ORGANIZER:
SEQUENCE:1
SUMMARY:Contaminazione e Crossover: dalla musica popolare a quella classica
  e viceversa
TRANSP:OPAQUE
URL:https://www.unitresanmauro.it/index.php/calendario/186-contaminazione-e
 -crossover-dalla-musica-popolare-a-quella-classica-e-viceversa/2026-04-27-
 16-00
END:VEVENT
END:VCALENDAR
