BEGIN:VCALENDAR
VERSION:2.0
PRODID:-//Unitre San Mauro//NONSGML kigkonsult.se iCalcreator 2.30.10//
CALSCALE:GREGORIAN
METHOD:PUBLISH
UID:7fccc9d1-4271-44a6-8e99-a2c5e82bb37d
X-WR-CALNAME:iCagenda
X-WR-CALDESC:Event Management Extension for Joomla!
X-WR-RELCALID:3E26604A-50F4-4449-8B3E-E4F4932D05B5
X-WR-TIMEZONE:UTC
BEGIN:VTIMEZONE
TZID:UTC
END:VTIMEZONE
BEGIN:VEVENT
UID:d2865932-5c7f-470b-9bce-9a12ac0036dc
DTSTAMP:20260424T155506Z
CATEGORIES:Corsi e incontri
CLASS:PUBLIC
DESCRIPTION:
DTSTART:20260427T160000Z
DTEND:20260427T160000Z
GEO:00;0
LOCATION:
ORGANIZER:
SEQUENCE:1
SUMMARY:Letteratura e civilizzazione francese
TRANSP:OPAQUE
URL:https://www.unitresanmauro.it/index.php/calendario/189-letteratura-e-ci
 vilizzazione-francese/2026-04-27-16-00
END:VEVENT
END:VCALENDAR
