BEGIN:VCALENDAR
VERSION:2.0
PRODID:-//Unitre San Mauro//NONSGML kigkonsult.se iCalcreator 2.30.10//
CALSCALE:GREGORIAN
METHOD:PUBLISH
UID:111fe9b1-4f8e-4d74-99de-2814e06b208e
X-WR-CALNAME:iCagenda
X-WR-CALDESC:Event Management Extension for Joomla!
X-WR-RELCALID:3E26604A-50F4-4449-8B3E-E4F4932D05B5
X-WR-TIMEZONE:UTC
BEGIN:VTIMEZONE
TZID:UTC
END:VTIMEZONE
BEGIN:VEVENT
UID:6038fee2-120a-4702-a69f-9ab716469477
DTSTAMP:20260424T175738Z
CATEGORIES:Corsi e incontri
CLASS:PUBLIC
DESCRIPTION:
DTSTART:20260504T160000Z
DTEND:20260504T160000Z
GEO:00;0
LOCATION:
ORGANIZER:
SEQUENCE:1
SUMMARY:Poirot: la superba solitudinedi chi ha sempre ragione!
TRANSP:OPAQUE
URL:https://www.unitresanmauro.it/index.php/calendario/190-poirot-la-superb
 a-solitudinedi-chi-ha-sempre-ragione/2026-05-04-16-00
END:VEVENT
END:VCALENDAR
