BEGIN:VCALENDAR
VERSION:2.0
PRODID:-//Unitre San Mauro//NONSGML kigkonsult.se iCalcreator 2.30.10//
CALSCALE:GREGORIAN
METHOD:PUBLISH
UID:2f2e5c63-13a0-45a8-9ec9-4c8828a8fcbe
X-WR-CALNAME:iCagenda
X-WR-CALDESC:Event Management Extension for Joomla!
X-WR-RELCALID:3E26604A-50F4-4449-8B3E-E4F4932D05B5
X-WR-TIMEZONE:UTC
BEGIN:VTIMEZONE
TZID:UTC
END:VTIMEZONE
BEGIN:VEVENT
UID:380cadd6-2b2f-40c4-b74a-3649c319f0cb
DTSTAMP:20260424T155506Z
CATEGORIES:Corsi e incontri
CLASS:PUBLIC
DESCRIPTION:
DTSTART:20260428T160000Z
DTEND:20260428T180000Z
GEO:00;0
LOCATION:
ORGANIZER:
SEQUENCE:1
SUMMARY:Il lupo nella pianura del Po
TRANSP:OPAQUE
URL:https://www.unitresanmauro.it/index.php/calendario/195-il-lupo-nella-pi
 anura-del-po/2026-04-28-16-00
END:VEVENT
END:VCALENDAR
