BEGIN:VCALENDAR
VERSION:2.0
PRODID:-//Unitre San Mauro//NONSGML kigkonsult.se iCalcreator 2.30.10//
CALSCALE:GREGORIAN
METHOD:PUBLISH
UID:ab55544e-126c-4a1b-86f8-6adf0923ee17
X-WR-CALNAME:iCagenda
X-WR-CALDESC:Event Management Extension for Joomla!
X-WR-RELCALID:3E26604A-50F4-4449-8B3E-E4F4932D05B5
X-WR-TIMEZONE:UTC
BEGIN:VTIMEZONE
TZID:UTC
END:VTIMEZONE
BEGIN:VEVENT
UID:2f5aa7c9-b72c-4e35-a765-875651242317
DTSTAMP:20260424T155506Z
CATEGORIES:Corsi e incontri
CLASS:PUBLIC
DESCRIPTION:
DTSTART:20260429T160000Z
DTEND:20260429T160000Z
GEO:00;0
LOCATION:
ORGANIZER:
SEQUENCE:1
SUMMARY:La letteratura è una difesa contro le offese della vita. (Cesare Pa
 vese)
TRANSP:OPAQUE
URL:https://www.unitresanmauro.it/index.php/calendario/202-la-letteratura-e
 -una-difesa-contro-le-offese-della-vita-cesare-pavese/2026-04-29-16-00
END:VEVENT
END:VCALENDAR
