BEGIN:VCALENDAR
VERSION:2.0
PRODID:-//Unitre San Mauro//NONSGML kigkonsult.se iCalcreator 2.30.10//
CALSCALE:GREGORIAN
METHOD:PUBLISH
UID:3a433b0c-5fb5-4ebb-80d3-cf67054c63e1
X-WR-CALNAME:iCagenda
X-WR-CALDESC:Event Management Extension for Joomla!
X-WR-RELCALID:3E26604A-50F4-4449-8B3E-E4F4932D05B5
X-WR-TIMEZONE:UTC
BEGIN:VTIMEZONE
TZID:UTC
END:VTIMEZONE
BEGIN:VEVENT
UID:fb678db2-0ce4-4dd6-9fe7-fc0baa1fb1a0
DTSTAMP:20260424T123804Z
CATEGORIES:Laboratori
CLASS:PUBLIC
DESCRIPTION:
DTSTART:20260504T093000Z
DTEND:20260504T093000Z
GEO:00;0
LOCATION:
ORGANIZER:
SEQUENCE:1
SUMMARY:Corso di chitarra - principianti
TRANSP:OPAQUE
URL:https://www.unitresanmauro.it/index.php/calendario/207-corso-di-chitarr
 a-principianti/2026-05-04-09-30
END:VEVENT
END:VCALENDAR
