BEGIN:VCALENDAR
VERSION:2.0
PRODID:-//Unitre San Mauro//NONSGML kigkonsult.se iCalcreator 2.30.10//
CALSCALE:GREGORIAN
METHOD:PUBLISH
UID:02a29fbc-5703-47f4-a8ce-e2670c6abc00
X-WR-CALNAME:iCagenda
X-WR-CALDESC:Event Management Extension for Joomla!
X-WR-RELCALID:3E26604A-50F4-4449-8B3E-E4F4932D05B5
X-WR-TIMEZONE:UTC
BEGIN:VTIMEZONE
TZID:UTC
END:VTIMEZONE
BEGIN:VEVENT
UID:b4283508-4f1d-4acc-8f0b-cc09cba550f0
DTSTAMP:20260424T123805Z
CATEGORIES:Laboratori
CLASS:PUBLIC
DESCRIPTION;ALTREP="CID:<FFFF__=0ABBE548DFE235B58f9e8a93d@coffeebean.com>":
 Orario lezione: 09.30 - 11.30\nCon il feltro si possono creare: decorazion
 i natalizie e pasquali\, spille\, portachiavi\, pannelli decorativi\, port
 alavanda...\nUna sezione particolare sarà dedicata alla realizzazione di p
 asticcini e biscotti.\nNon occorrono competenze particolari\, ma sicuramen
 te pazienza e precisione.\n\n&nbsp\;\n\n&nbsp\;
DTSTART:20260429T093000Z
DTEND:20260429T093000Z
GEO:00;0
LOCATION:
ORGANIZER:
SEQUENCE:1
SUMMARY:Feltro e fantasia
TRANSP:OPAQUE
URL:https://www.unitresanmauro.it/index.php/calendario/70-feltro-e-fantasia
 /2026-04-29-09-30
END:VEVENT
END:VCALENDAR
