BEGIN:VCALENDAR
VERSION:2.0
PRODID:-//Unitre San Mauro//NONSGML kigkonsult.se iCalcreator 2.30.10//
CALSCALE:GREGORIAN
METHOD:PUBLISH
UID:e45d3818-d11f-46b2-ad44-013d14f42c59
X-WR-CALNAME:iCagenda
X-WR-CALDESC:Event Management Extension for Joomla!
X-WR-RELCALID:3E26604A-50F4-4449-8B3E-E4F4932D05B5
X-WR-TIMEZONE:UTC
BEGIN:VTIMEZONE
TZID:UTC
END:VTIMEZONE
BEGIN:VEVENT
UID:cd37e8d6-c042-4508-b995-0281e5240248
DTSTAMP:20260425T041403Z
CATEGORIES:Evento
CLASS:PUBLIC
DESCRIPTION:
DTSTART:20251003T150000Z
DTEND:20251003T170000Z
GEO:+45.093178;+7.754285
LOCATION:teatro Sant'Anna\, via Monginevro 6\, San Mauro
ORGANIZER:
SEQUENCE:1
SUMMARY:Inaugurazione anno accademico 2025/26
TRANSP:OPAQUE
URL:https://www.unitresanmauro.it/index.php/component/icagenda/1-inaugurazi
 one-anno-accademico-2025-26
END:VEVENT
END:VCALENDAR
