BEGIN:VCALENDAR
VERSION:2.0
PRODID:-//Unitre San Mauro//NONSGML kigkonsult.se iCalcreator 2.30.10//
CALSCALE:GREGORIAN
METHOD:PUBLISH
UID:4b350294-98e5-4e59-b0dc-aa271fb9c327
X-WR-CALNAME:iCagenda
X-WR-CALDESC:Event Management Extension for Joomla!
X-WR-RELCALID:3E26604A-50F4-4449-8B3E-E4F4932D05B5
X-WR-TIMEZONE:UTC
BEGIN:VTIMEZONE
TZID:UTC
END:VTIMEZONE
BEGIN:VEVENT
UID:a110acbe-7a5b-4e9c-904b-eb872e2fde63
DTSTAMP:20260424T175117Z
CATEGORIES:Lingue straniere
CLASS:PUBLIC
DESCRIPTION:
DTSTART:20260303T144500Z
DTEND:20260303T144500Z
GEO:00;0
LOCATION:
ORGANIZER:
SEQUENCE:1
SUMMARY:Tedesco: 4° livello (corso a numero chiuso)
TRANSP:OPAQUE
URL:https://www.unitresanmauro.it/index.php/component/icagenda/102-tedesco-
 4-livello/2026-03-03-14-45
END:VEVENT
END:VCALENDAR
