BEGIN:VCALENDAR
VERSION:2.0
PRODID:-//Unitre San Mauro//NONSGML kigkonsult.se iCalcreator 2.30.10//
CALSCALE:GREGORIAN
METHOD:PUBLISH
UID:d1a9d888-e5ed-4cd4-a90b-9d1862f97f09
X-WR-CALNAME:iCagenda
X-WR-CALDESC:Event Management Extension for Joomla!
X-WR-RELCALID:3E26604A-50F4-4449-8B3E-E4F4932D05B5
X-WR-TIMEZONE:UTC
BEGIN:VTIMEZONE
TZID:UTC
END:VTIMEZONE
BEGIN:VEVENT
UID:dae09bf5-2a93-41b9-a831-a03a94fb55ab
DTSTAMP:20260425T041817Z
CATEGORIES:Attività e movimento
CLASS:PUBLIC
DESCRIPTION;ALTREP="CID:<FFFF__=0ABBE548DFE235B58f9e8a93d@coffeebean.com>":
 Si tratta di una disciplina nata dalla combinazione di conoscenze derivant
 i dalla&nbsp\;medicina tradizionale\, dalla&nbsp\;filosofia&nbsp\;e dalle&
 nbsp\;arti marziali cinesi\; prevede l'esecuzione di particolari e determi
 nati movimenti in coordinazione con la&nbsp\;respirazione&nbsp\;e associat
 i alla concentrazione mentale e a tecniche di meditazione.
DTSTART:20251119T100000Z
DTEND:20251119T100000Z
GEO:00;0
LOCATION:
ORGANIZER:
SEQUENCE:1
SUMMARY:QI GONG  ( corso a numero chiuso) - c/o Piscina Gramsci\, via del p
 orto 13\, San Mauro - Palestra Grande
TRANSP:OPAQUE
URL:https://www.unitresanmauro.it/index.php/component/icagenda/103-qi-gong/
 2025-11-19-10-00
END:VEVENT
END:VCALENDAR
