BEGIN:VCALENDAR
VERSION:2.0
PRODID:-//Unitre San Mauro//NONSGML kigkonsult.se iCalcreator 2.30.10//
CALSCALE:GREGORIAN
METHOD:PUBLISH
UID:05d7cc2c-3386-4231-9c9a-d4316425a7e5
X-WR-CALNAME:iCagenda
X-WR-CALDESC:Event Management Extension for Joomla!
X-WR-RELCALID:3E26604A-50F4-4449-8B3E-E4F4932D05B5
X-WR-TIMEZONE:UTC
BEGIN:VTIMEZONE
TZID:UTC
END:VTIMEZONE
BEGIN:VEVENT
UID:7d3cb220-8737-4ade-84db-375854fb23b5
DTSTAMP:20260425T022905Z
CATEGORIES:Corsi e incontri
CLASS:PUBLIC
DESCRIPTION:
DTSTART:20231218T160000Z
DTEND:20231218T160000Z
GEO:00;0
LOCATION:
ORGANIZER:
SEQUENCE:1
SUMMARY:Figli al centro: come affrontare la separazione dei genitori
TRANSP:OPAQUE
URL:https://www.unitresanmauro.it/index.php/component/icagenda/105-figli-al
 -centro-come-affrontare-la-separazione-dei-genitori
END:VEVENT
END:VCALENDAR
