BEGIN:VCALENDAR
VERSION:2.0
PRODID:-//Unitre San Mauro//NONSGML kigkonsult.se iCalcreator 2.30.10//
CALSCALE:GREGORIAN
METHOD:PUBLISH
UID:0880d893-5226-4ec2-8077-4a869a05e477
X-WR-CALNAME:iCagenda
X-WR-CALDESC:Event Management Extension for Joomla!
X-WR-RELCALID:3E26604A-50F4-4449-8B3E-E4F4932D05B5
X-WR-TIMEZONE:UTC
BEGIN:VTIMEZONE
TZID:UTC
END:VTIMEZONE
BEGIN:VEVENT
UID:2d4300c3-2fab-4262-968b-aab67ebfc0c5
DTSTAMP:20260424T193339Z
CATEGORIES:Corsi e incontri
CLASS:PUBLIC
DESCRIPTION:
DTSTART:20240430T160000Z
DTEND:20240430T180000Z
GEO:00;0
LOCATION:
ORGANIZER:
SEQUENCE:1
SUMMARY:Briganti e malviventi nel Piemonte ottocentesco
TRANSP:OPAQUE
URL:https://www.unitresanmauro.it/index.php/component/icagenda/107-briganti
 -e-malviventi-nel-piemonte-ottocentesco
END:VEVENT
END:VCALENDAR
