BEGIN:VCALENDAR
VERSION:2.0
PRODID:-//Unitre San Mauro//NONSGML kigkonsult.se iCalcreator 2.30.10//
CALSCALE:GREGORIAN
METHOD:PUBLISH
UID:edb4a7c2-5a7d-4ded-ad16-cce012eda95e
X-WR-CALNAME:iCagenda
X-WR-CALDESC:Event Management Extension for Joomla!
X-WR-RELCALID:3E26604A-50F4-4449-8B3E-E4F4932D05B5
X-WR-TIMEZONE:UTC
BEGIN:VTIMEZONE
TZID:UTC
END:VTIMEZONE
BEGIN:VEVENT
UID:2587f910-03e7-4271-8725-50b6ac2f5dd0
DTSTAMP:20260425T003904Z
CATEGORIES:Corsi e incontri
CLASS:PUBLIC
DESCRIPTION:
DTSTART:20240109T160000Z
DTEND:20240109T180000Z
GEO:00;0
LOCATION:
ORGANIZER:
SEQUENCE:1
SUMMARY:Don Rodrigo abita qui. Un viaggio nel Piemonte Manzoniano\, tra sto
 rie\, suggestioni e misteri
TRANSP:OPAQUE
URL:https://www.unitresanmauro.it/index.php/component/icagenda/108-don-rodr
 igo-abita-qui-un-viaggio-nel-piemonte-manzoniano-tra-storie-suggestioni-e-
 misteri
END:VEVENT
END:VCALENDAR
