BEGIN:VCALENDAR
VERSION:2.0
PRODID:-//Unitre San Mauro//NONSGML kigkonsult.se iCalcreator 2.30.10//
CALSCALE:GREGORIAN
METHOD:PUBLISH
UID:5808ac57-0c3a-4307-a407-bbb00bde1997
X-WR-CALNAME:iCagenda
X-WR-CALDESC:Event Management Extension for Joomla!
X-WR-RELCALID:3E26604A-50F4-4449-8B3E-E4F4932D05B5
X-WR-TIMEZONE:UTC
BEGIN:VTIMEZONE
TZID:UTC
END:VTIMEZONE
BEGIN:VEVENT
UID:977b1318-c18c-4bcc-ab81-ecb09c9da0a1
DTSTAMP:20260425T003746Z
CATEGORIES:Corsi e incontri
CLASS:PUBLIC
DESCRIPTION:
DTSTART:20240130T160000Z
DTEND:20240130T160000Z
GEO:00;0
LOCATION:
ORGANIZER:
SEQUENCE:1
SUMMARY:Il fascino degli argenti antichi
TRANSP:OPAQUE
URL:https://www.unitresanmauro.it/index.php/component/icagenda/109-il-fasci
 no-degli-argenti-antichi/2024-01-30-16-00
END:VEVENT
END:VCALENDAR
