BEGIN:VCALENDAR
VERSION:2.0
PRODID:-//Unitre San Mauro//NONSGML kigkonsult.se iCalcreator 2.30.10//
CALSCALE:GREGORIAN
METHOD:PUBLISH
UID:011d9ddf-2479-4f0d-9f7b-3f1514635004
X-WR-CALNAME:iCagenda
X-WR-CALDESC:Event Management Extension for Joomla!
X-WR-RELCALID:3E26604A-50F4-4449-8B3E-E4F4932D05B5
X-WR-TIMEZONE:UTC
BEGIN:VTIMEZONE
TZID:UTC
END:VTIMEZONE
BEGIN:VEVENT
UID:88d216e3-47ec-4435-a484-c7c88c7794b6
DTSTAMP:20260424T224950Z
CATEGORIES:Corsi e incontri
CLASS:PUBLIC
DESCRIPTION:
DTSTART:20240227T160000Z
DTEND:20240227T160000Z
GEO:00;0
LOCATION:
ORGANIZER:
SEQUENCE:1
SUMMARY:Il fascino degli argenti antichi
TRANSP:OPAQUE
URL:https://www.unitresanmauro.it/index.php/component/icagenda/109-il-fasci
 no-degli-argenti-antichi/2024-02-27-16-00
END:VEVENT
END:VCALENDAR
