BEGIN:VCALENDAR
VERSION:2.0
PRODID:-//Unitre San Mauro//NONSGML kigkonsult.se iCalcreator 2.30.10//
CALSCALE:GREGORIAN
METHOD:PUBLISH
UID:266f8700-f39d-4c44-b4a5-540f528323c5
X-WR-CALNAME:iCagenda
X-WR-CALDESC:Event Management Extension for Joomla!
X-WR-RELCALID:3E26604A-50F4-4449-8B3E-E4F4932D05B5
X-WR-TIMEZONE:UTC
BEGIN:VTIMEZONE
TZID:UTC
END:VTIMEZONE
BEGIN:VEVENT
UID:f1f27675-b524-45c2-89e1-95a6e3aa80cf
DTSTAMP:20260424T210753Z
CATEGORIES:Corsi e incontri
CLASS:PUBLIC
DESCRIPTION:
DTSTART:20240409T160000Z
DTEND:20240409T160000Z
GEO:00;0
LOCATION:
ORGANIZER:
SEQUENCE:1
SUMMARY:Italia 61: l'esposizione per le celebrazioni del primo centenario d
 ell'Unità d'Italia
TRANSP:OPAQUE
URL:https://www.unitresanmauro.it/index.php/component/icagenda/110-italia-6
 1-lesposizione-per-le-celebrazioni-del-primo-centenario-dellunita-ditalia
END:VEVENT
END:VCALENDAR
