BEGIN:VCALENDAR
VERSION:2.0
PRODID:-//Unitre San Mauro//NONSGML kigkonsult.se iCalcreator 2.30.10//
CALSCALE:GREGORIAN
METHOD:PUBLISH
UID:19b020ae-5b50-4804-8526-1b3bae0b27b9
X-WR-CALNAME:iCagenda
X-WR-CALDESC:Event Management Extension for Joomla!
X-WR-RELCALID:3E26604A-50F4-4449-8B3E-E4F4932D05B5
X-WR-TIMEZONE:UTC
BEGIN:VTIMEZONE
TZID:UTC
END:VTIMEZONE
BEGIN:VEVENT
UID:a2e9bab6-2763-4d9a-be44-52f55940808a
DTSTAMP:20260424T193318Z
CATEGORIES:Corsi e incontri
CLASS:PUBLIC
DESCRIPTION:
DTSTART:20240423T160000Z
DTEND:20240423T160000Z
GEO:00;0
LOCATION:
ORGANIZER:
SEQUENCE:1
SUMMARY:Come creare un albero genealogico
TRANSP:OPAQUE
URL:https://www.unitresanmauro.it/index.php/component/icagenda/111-mozart-b
 eethoven-rossini-e-verdi-uomini-dietro-le-note
END:VEVENT
END:VCALENDAR
