BEGIN:VCALENDAR
VERSION:2.0
PRODID:-//Unitre San Mauro//NONSGML kigkonsult.se iCalcreator 2.30.10//
CALSCALE:GREGORIAN
METHOD:PUBLISH
UID:a92cfc87-9605-4876-9013-2cf93b5c16c1
X-WR-CALNAME:iCagenda
X-WR-CALDESC:Event Management Extension for Joomla!
X-WR-RELCALID:3E26604A-50F4-4449-8B3E-E4F4932D05B5
X-WR-TIMEZONE:UTC
BEGIN:VTIMEZONE
TZID:UTC
END:VTIMEZONE
BEGIN:VEVENT
UID:fde55650-26bb-407a-90ca-e5ad3ef97174
DTSTAMP:20260425T024459Z
CATEGORIES:Corsi e incontri
CLASS:PUBLIC
DESCRIPTION:
DTSTART:20241126T160000Z
DTEND:20241126T180000Z
GEO:00;0
LOCATION:
ORGANIZER:
SEQUENCE:1
SUMMARY:Sguardi d'Artista\, il mondo visto con gli occhi dei grandi pittori
  e scrittori
TRANSP:OPAQUE
URL:https://www.unitresanmauro.it/index.php/component/icagenda/112-sguardi-
 dartista-il-mondo-visto-con-gli-occhi-dei-grandi-pittori/2024-11-26-16-00
END:VEVENT
END:VCALENDAR
