BEGIN:VCALENDAR
VERSION:2.0
PRODID:-//Unitre San Mauro//NONSGML kigkonsult.se iCalcreator 2.30.10//
CALSCALE:GREGORIAN
METHOD:PUBLISH
UID:dc81da77-dcf7-4246-bf8b-a272f1e2d442
X-WR-CALNAME:iCagenda
X-WR-CALDESC:Event Management Extension for Joomla!
X-WR-RELCALID:3E26604A-50F4-4449-8B3E-E4F4932D05B5
X-WR-TIMEZONE:UTC
BEGIN:VTIMEZONE
TZID:UTC
END:VTIMEZONE
BEGIN:VEVENT
UID:a6bdf4fc-8d63-424d-934d-fca385e8c210
DTSTAMP:20260425T003902Z
CATEGORIES:Corsi e incontri
CLASS:PUBLIC
DESCRIPTION:
DTSTART:20241210T160000Z
DTEND:20241210T160000Z
GEO:00;0
LOCATION:
ORGANIZER:
SEQUENCE:1
SUMMARY:Sguardi d'Artista\, il mondo visto con gli occhi dei grandi pittori
  e scrittori
TRANSP:OPAQUE
URL:https://www.unitresanmauro.it/index.php/component/icagenda/112-sguardi-
 dartista-il-mondo-visto-con-gli-occhi-dei-grandi-pittori/2024-12-10-16-00
END:VEVENT
END:VCALENDAR
