BEGIN:VCALENDAR
VERSION:2.0
PRODID:-//Unitre San Mauro//NONSGML kigkonsult.se iCalcreator 2.30.10//
CALSCALE:GREGORIAN
METHOD:PUBLISH
UID:f0823574-91cb-4aa6-b1b7-9cbc3ec18578
X-WR-CALNAME:iCagenda
X-WR-CALDESC:Event Management Extension for Joomla!
X-WR-RELCALID:3E26604A-50F4-4449-8B3E-E4F4932D05B5
X-WR-TIMEZONE:UTC
BEGIN:VTIMEZONE
TZID:UTC
END:VTIMEZONE
BEGIN:VEVENT
UID:0a26ea3e-3f46-44b6-b3a5-7566f8ecd570
DTSTAMP:20260424T225214Z
CATEGORIES:Corsi e incontri
CLASS:PUBLIC
DESCRIPTION:
DTSTART:20250107T160000Z
DTEND:20250107T160000Z
GEO:00;0
LOCATION:
ORGANIZER:
SEQUENCE:1
SUMMARY:Sguardi d'Artista\, il mondo visto con gli occhi dei grandi pittori
  e scrittori
TRANSP:OPAQUE
URL:https://www.unitresanmauro.it/index.php/component/icagenda/112-sguardi-
 dartista-il-mondo-visto-con-gli-occhi-dei-grandi-pittori/2025-01-07-16-00
END:VEVENT
END:VCALENDAR
