BEGIN:VCALENDAR
VERSION:2.0
PRODID:-//Unitre San Mauro//NONSGML kigkonsult.se iCalcreator 2.30.10//
CALSCALE:GREGORIAN
METHOD:PUBLISH
UID:9bd8c4f5-0f00-46aa-8efb-ea9e8fc3d933
X-WR-CALNAME:iCagenda
X-WR-CALDESC:Event Management Extension for Joomla!
X-WR-RELCALID:3E26604A-50F4-4449-8B3E-E4F4932D05B5
X-WR-TIMEZONE:UTC
BEGIN:VTIMEZONE
TZID:UTC
END:VTIMEZONE
BEGIN:VEVENT
UID:62160e98-ce2b-45f5-95b0-1a1c7a970c6e
DTSTAMP:20260424T194446Z
CATEGORIES:Corsi e incontri
CLASS:PUBLIC
DESCRIPTION:
DTSTART:20240411T160000Z
DTEND:20240411T180000Z
GEO:00;0
LOCATION:
ORGANIZER:
SEQUENCE:1
SUMMARY:Il mondo di S.E.T.A. (Società Ecologica Territorio Ambiente) e dei 
 rifiuti
TRANSP:OPAQUE
URL:https://www.unitresanmauro.it/index.php/component/icagenda/113-il-mondo
 -di-s-e-t-a-societa-ecologica-territorio-ambiente-e-dei-rifiuti
END:VEVENT
END:VCALENDAR
