BEGIN:VCALENDAR
VERSION:2.0
PRODID:-//Unitre San Mauro//NONSGML kigkonsult.se iCalcreator 2.30.10//
CALSCALE:GREGORIAN
METHOD:PUBLISH
UID:dd680723-4227-4866-a48a-1cb4a9053d29
X-WR-CALNAME:iCagenda
X-WR-CALDESC:Event Management Extension for Joomla!
X-WR-RELCALID:3E26604A-50F4-4449-8B3E-E4F4932D05B5
X-WR-TIMEZONE:UTC
BEGIN:VTIMEZONE
TZID:UTC
END:VTIMEZONE
BEGIN:VEVENT
UID:869e37a2-5b45-431a-b547-1a8b1341f532
DTSTAMP:20260425T022805Z
CATEGORIES:Corsi e incontri
CLASS:PUBLIC
DESCRIPTION:
DTSTART:20231221T160000Z
DTEND:20231221T160000Z
GEO:00;0
LOCATION:
ORGANIZER:
SEQUENCE:1
SUMMARY:Il Tempo Vissuto: Parole ed Immagini
TRANSP:OPAQUE
URL:https://www.unitresanmauro.it/index.php/component/icagenda/114-il-tempo
 -vissuto-parole-ed-immagini
END:VEVENT
END:VCALENDAR
