BEGIN:VCALENDAR
VERSION:2.0
PRODID:-//Unitre San Mauro//NONSGML kigkonsult.se iCalcreator 2.30.10//
CALSCALE:GREGORIAN
METHOD:PUBLISH
UID:044004f9-3b56-4746-a724-41e195b03d77
X-WR-CALNAME:iCagenda
X-WR-CALDESC:Event Management Extension for Joomla!
X-WR-RELCALID:3E26604A-50F4-4449-8B3E-E4F4932D05B5
X-WR-TIMEZONE:UTC
BEGIN:VTIMEZONE
TZID:UTC
END:VTIMEZONE
BEGIN:VEVENT
UID:a0aa0e09-6733-4ee6-80b3-dbc86101d19b
DTSTAMP:20260425T022914Z
CATEGORIES:Corsi e incontri
CLASS:PUBLIC
DESCRIPTION:
DTSTART:20231207T160000Z
DTEND:20231207T160000Z
GEO:00;0
LOCATION:
ORGANIZER:
SEQUENCE:1
SUMMARY:La corrente elettrica: questa pericolosa sconosciuta
TRANSP:OPAQUE
URL:https://www.unitresanmauro.it/index.php/component/icagenda/115-la-corre
 nte-elettrica-questa-pericolosa-sconosciuta/2023-12-07-16-00
END:VEVENT
END:VCALENDAR
