BEGIN:VCALENDAR
VERSION:2.0
PRODID:-//Unitre San Mauro//NONSGML kigkonsult.se iCalcreator 2.30.10//
CALSCALE:GREGORIAN
METHOD:PUBLISH
UID:2dbde10e-6ebc-42f0-b01c-92b74dd04c74
X-WR-CALNAME:iCagenda
X-WR-CALDESC:Event Management Extension for Joomla!
X-WR-RELCALID:3E26604A-50F4-4449-8B3E-E4F4932D05B5
X-WR-TIMEZONE:UTC
BEGIN:VTIMEZONE
TZID:UTC
END:VTIMEZONE
BEGIN:VEVENT
UID:1525aa7b-9627-46bc-b61d-0bd95110b6f8
DTSTAMP:20260425T003745Z
CATEGORIES:Corsi e incontri
CLASS:PUBLIC
DESCRIPTION:
DTSTART:20240118T160000Z
DTEND:20240118T160000Z
GEO:00;0
LOCATION:
ORGANIZER:
SEQUENCE:1
SUMMARY:La corrente elettrica: questa pericolosa sconosciuta
TRANSP:OPAQUE
URL:https://www.unitresanmauro.it/index.php/component/icagenda/115-la-corre
 nte-elettrica-questa-pericolosa-sconosciuta/2024-01-18-16-00
END:VEVENT
END:VCALENDAR
