BEGIN:VCALENDAR
VERSION:2.0
PRODID:-//Unitre San Mauro//NONSGML kigkonsult.se iCalcreator 2.30.10//
CALSCALE:GREGORIAN
METHOD:PUBLISH
UID:d5981e4c-295f-4ec8-b16c-03cbbf1c5b3d
X-WR-CALNAME:iCagenda
X-WR-CALDESC:Event Management Extension for Joomla!
X-WR-RELCALID:3E26604A-50F4-4449-8B3E-E4F4932D05B5
X-WR-TIMEZONE:UTC
BEGIN:VTIMEZONE
TZID:UTC
END:VTIMEZONE
BEGIN:VEVENT
UID:a0b33dd7-9d91-432b-ad96-29f7efefed0f
DTSTAMP:20260425T043131Z
CATEGORIES:Corsi e incontri
CLASS:PUBLIC
DESCRIPTION:
DTSTART:20241031T160000Z
DTEND:20241031T180000Z
GEO:00;0
LOCATION:
ORGANIZER:
SEQUENCE:1
SUMMARY:La corrente elettrica: questa pericolosa sconosciuta
TRANSP:OPAQUE
URL:https://www.unitresanmauro.it/index.php/component/icagenda/115-la-corre
 nte-elettrica-questa-pericolosa-sconosciuta/2024-10-31-16-00
END:VEVENT
END:VCALENDAR
