BEGIN:VCALENDAR
VERSION:2.0
PRODID:-//Unitre San Mauro//NONSGML kigkonsult.se iCalcreator 2.30.10//
CALSCALE:GREGORIAN
METHOD:PUBLISH
UID:966d13cc-f73a-4c87-b98b-a941976ff30c
X-WR-CALNAME:iCagenda
X-WR-CALDESC:Event Management Extension for Joomla!
X-WR-RELCALID:3E26604A-50F4-4449-8B3E-E4F4932D05B5
X-WR-TIMEZONE:UTC
BEGIN:VTIMEZONE
TZID:UTC
END:VTIMEZONE
BEGIN:VEVENT
UID:1fe149c7-b99d-49be-a0c4-dc49819c0e29
DTSTAMP:20260425T043131Z
CATEGORIES:Corsi e incontri
CLASS:PUBLIC
DESCRIPTION:
DTSTART:20231130T160000Z
DTEND:20231130T180000Z
GEO:00;0
LOCATION:
ORGANIZER:
SEQUENCE:1
SUMMARY:Parole di Specchio: il giornalismo sportivo: le imprese dei campion
 i
TRANSP:OPAQUE
URL:https://www.unitresanmauro.it/index.php/component/icagenda/119-parole-d
 i-specchio-il-giornalismo-sportivo-le-imprese-dei-campioni
END:VEVENT
END:VCALENDAR
