BEGIN:VCALENDAR
VERSION:2.0
PRODID:-//Unitre San Mauro//NONSGML kigkonsult.se iCalcreator 2.30.10//
CALSCALE:GREGORIAN
METHOD:PUBLISH
UID:4dace3aa-eabb-44e5-97e6-29ec7f813ced
X-WR-CALNAME:iCagenda
X-WR-CALDESC:Event Management Extension for Joomla!
X-WR-RELCALID:3E26604A-50F4-4449-8B3E-E4F4932D05B5
X-WR-TIMEZONE:UTC
BEGIN:VTIMEZONE
TZID:UTC
END:VTIMEZONE
BEGIN:VEVENT
UID:fa8f0f99-8d47-4f86-b7ba-cc0dae865e8f
DTSTAMP:20260425T040948Z
CATEGORIES:Corsi e incontri
CLASS:PUBLIC
DESCRIPTION:
DTSTART:20241015T160000Z
DTEND:20241015T180000Z
GEO:00;0
LOCATION:
ORGANIZER:
SEQUENCE:1
SUMMARY:Storia delle donne: fuori dalla minorità: partigiane\, costituenti\
 , cittadine
TRANSP:OPAQUE
URL:https://www.unitresanmauro.it/index.php/component/icagenda/120-storia-d
 elle-donne/2024-10-15-16-00
END:VEVENT
END:VCALENDAR
