BEGIN:VCALENDAR
VERSION:2.0
PRODID:-//Unitre San Mauro//NONSGML kigkonsult.se iCalcreator 2.30.10//
CALSCALE:GREGORIAN
METHOD:PUBLISH
UID:fbbeb667-5da8-47c0-8e90-5abcddd046bd
X-WR-CALNAME:iCagenda
X-WR-CALDESC:Event Management Extension for Joomla!
X-WR-RELCALID:3E26604A-50F4-4449-8B3E-E4F4932D05B5
X-WR-TIMEZONE:UTC
BEGIN:VTIMEZONE
TZID:UTC
END:VTIMEZONE
BEGIN:VEVENT
UID:1534124a-c5d4-45f7-bd2e-c639a23371fa
DTSTAMP:20260425T040907Z
CATEGORIES:Corsi e incontri
CLASS:PUBLIC
DESCRIPTION:
DTSTART:20241029T160000Z
DTEND:20241029T160000Z
GEO:00;0
LOCATION:
ORGANIZER:
SEQUENCE:1
SUMMARY:Storia delle donne: fuori dalla minorità: partigiane\, costituenti\
 , cittadine
TRANSP:OPAQUE
URL:https://www.unitresanmauro.it/index.php/component/icagenda/120-storia-d
 elle-donne/2024-10-29-16-00
END:VEVENT
END:VCALENDAR
