BEGIN:VCALENDAR
VERSION:2.0
PRODID:-//Unitre San Mauro//NONSGML kigkonsult.se iCalcreator 2.30.10//
CALSCALE:GREGORIAN
METHOD:PUBLISH
UID:641d5055-7cc5-4c4c-b594-0660f8ff6cb0
X-WR-CALNAME:iCagenda
X-WR-CALDESC:Event Management Extension for Joomla!
X-WR-RELCALID:3E26604A-50F4-4449-8B3E-E4F4932D05B5
X-WR-TIMEZONE:UTC
BEGIN:VTIMEZONE
TZID:UTC
END:VTIMEZONE
BEGIN:VEVENT
UID:3efef889-25a2-4b04-8be2-5b0da6830c0a
DTSTAMP:20260424T194601Z
CATEGORIES:Corsi e incontri
CLASS:PUBLIC
DESCRIPTION:
DTSTART:20240412T160000Z
DTEND:20240412T160000Z
GEO:00;0
LOCATION:
ORGANIZER:
SEQUENCE:1
SUMMARY:Ieri\, oggi \, domani: documentari amatoriali per una riflessione s
 ul mondo in rapida trasformazione
TRANSP:OPAQUE
URL:https://www.unitresanmauro.it/index.php/component/icagenda/121-ieri-ogg
 i-domani-documentari-amatoriali-per-una-riflessione-sul-mondo-in-rapida-tr
 asformazione/2024-04-12-16-00
END:VEVENT
END:VCALENDAR
