BEGIN:VCALENDAR
VERSION:2.0
PRODID:-//Unitre San Mauro//NONSGML kigkonsult.se iCalcreator 2.30.10//
CALSCALE:GREGORIAN
METHOD:PUBLISH
UID:fae871ac-f6a9-46cc-ba7d-75c598982601
X-WR-CALNAME:iCagenda
X-WR-CALDESC:Event Management Extension for Joomla!
X-WR-RELCALID:3E26604A-50F4-4449-8B3E-E4F4932D05B5
X-WR-TIMEZONE:UTC
BEGIN:VTIMEZONE
TZID:UTC
END:VTIMEZONE
BEGIN:VEVENT
UID:025641ac-ed70-45a6-b24e-b1053a52e72d
DTSTAMP:20260425T003642Z
CATEGORIES:Corsi e incontri
CLASS:PUBLIC
DESCRIPTION:
DTSTART:20260130T160000Z
DTEND:20260130T180000Z
GEO:00;0
LOCATION:
ORGANIZER:
SEQUENCE:1
SUMMARY:meccanica quantistica\, tra mistero e realtà
TRANSP:OPAQUE
URL:https://www.unitresanmauro.it/index.php/component/icagenda/122-meccanic
 a-quantistica-questa-sconosciuta/2026-01-30-16-00
END:VEVENT
END:VCALENDAR
