BEGIN:VCALENDAR
VERSION:2.0
PRODID:-//Unitre San Mauro//NONSGML kigkonsult.se iCalcreator 2.30.10//
CALSCALE:GREGORIAN
METHOD:PUBLISH
UID:1250d465-b3f5-4c94-bdab-8fd2acf37b7d
X-WR-CALNAME:iCagenda
X-WR-CALDESC:Event Management Extension for Joomla!
X-WR-RELCALID:3E26604A-50F4-4449-8B3E-E4F4932D05B5
X-WR-TIMEZONE:UTC
BEGIN:VTIMEZONE
TZID:UTC
END:VTIMEZONE
BEGIN:VEVENT
UID:c1974da9-df0c-4b9e-886f-1508bf3c4696
DTSTAMP:20260425T042136Z
CATEGORIES:Laboratori
CLASS:PUBLIC
DESCRIPTION:
DTSTART:20251014T093000Z
DTEND:20251014T113000Z
GEO:00;0
LOCATION:
ORGANIZER:
SEQUENCE:1
SUMMARY:il-fascino-del-paesaggio-all'acquarello-numero-chiuso
TRANSP:OPAQUE
URL:https://www.unitresanmauro.it/index.php/component/icagenda/123-il-fasci
 no-del-paesaggio-allacquarello-numero-chiuso/2025-10-14-09-30
END:VEVENT
END:VCALENDAR
