BEGIN:VCALENDAR
VERSION:2.0
PRODID:-//Unitre San Mauro//NONSGML kigkonsult.se iCalcreator 2.30.10//
CALSCALE:GREGORIAN
METHOD:PUBLISH
UID:956f5fea-b871-4d46-a9f0-b7e2304a2b43
X-WR-CALNAME:iCagenda
X-WR-CALDESC:Event Management Extension for Joomla!
X-WR-RELCALID:3E26604A-50F4-4449-8B3E-E4F4932D05B5
X-WR-TIMEZONE:UTC
BEGIN:VTIMEZONE
TZID:UTC
END:VTIMEZONE
BEGIN:VEVENT
UID:0f0b331e-8f2d-4930-b8c3-40e4e3c559cf
DTSTAMP:20260425T003800Z
CATEGORIES:Laboratori
CLASS:PUBLIC
DESCRIPTION:
DTSTART:20260120T093000Z
DTEND:20260120T093000Z
GEO:00;0
LOCATION:
ORGANIZER:
SEQUENCE:1
SUMMARY:il-fascino-del-paesaggio-all'acquarello-numero-chiuso
TRANSP:OPAQUE
URL:https://www.unitresanmauro.it/index.php/component/icagenda/123-il-fasci
 no-del-paesaggio-allacquarello-numero-chiuso/2026-01-20-09-30
END:VEVENT
END:VCALENDAR
