BEGIN:VCALENDAR
VERSION:2.0
PRODID:-//Unitre San Mauro//NONSGML kigkonsult.se iCalcreator 2.30.10//
CALSCALE:GREGORIAN
METHOD:PUBLISH
UID:4af27396-a002-4578-bdb5-ed463e9db768
X-WR-CALNAME:iCagenda
X-WR-CALDESC:Event Management Extension for Joomla!
X-WR-RELCALID:3E26604A-50F4-4449-8B3E-E4F4932D05B5
X-WR-TIMEZONE:UTC
BEGIN:VTIMEZONE
TZID:UTC
END:VTIMEZONE
BEGIN:VEVENT
UID:b18472d7-d66d-4693-8ec6-628ef411dad1
DTSTAMP:20260424T175732Z
CATEGORIES:Laboratori
CLASS:PUBLIC
DESCRIPTION:
DTSTART:20260303T093000Z
DTEND:20260303T093000Z
GEO:00;0
LOCATION:
ORGANIZER:
SEQUENCE:1
SUMMARY:il-fascino-del-paesaggio-all'acquarello-numero-chiuso
TRANSP:OPAQUE
URL:https://www.unitresanmauro.it/index.php/component/icagenda/123-il-fasci
 no-del-paesaggio-allacquarello-numero-chiuso/2026-03-03-09-30
END:VEVENT
END:VCALENDAR
