BEGIN:VCALENDAR
VERSION:2.0
PRODID:-//Unitre San Mauro//NONSGML kigkonsult.se iCalcreator 2.30.10//
CALSCALE:GREGORIAN
METHOD:PUBLISH
UID:47563401-19bc-4671-bd80-bd4954e9d73e
X-WR-CALNAME:iCagenda
X-WR-CALDESC:Event Management Extension for Joomla!
X-WR-RELCALID:3E26604A-50F4-4449-8B3E-E4F4932D05B5
X-WR-TIMEZONE:UTC
BEGIN:VTIMEZONE
TZID:UTC
END:VTIMEZONE
BEGIN:VEVENT
UID:3f667816-f1ba-48af-85a1-82c29681558f
DTSTAMP:20260424T174922Z
CATEGORIES:Laboratori
CLASS:PUBLIC
DESCRIPTION:
DTSTART:20260331T093000Z
DTEND:20260331T093000Z
GEO:00;0
LOCATION:
ORGANIZER:
SEQUENCE:1
SUMMARY:il-fascino-del-paesaggio-all'acquarello-numero-chiuso
TRANSP:OPAQUE
URL:https://www.unitresanmauro.it/index.php/component/icagenda/123-il-fasci
 no-del-paesaggio-allacquarello-numero-chiuso/2026-03-31-09-30
END:VEVENT
END:VCALENDAR
