BEGIN:VCALENDAR
VERSION:2.0
PRODID:-//Unitre San Mauro//NONSGML kigkonsult.se iCalcreator 2.30.10//
CALSCALE:GREGORIAN
METHOD:PUBLISH
UID:db1de0c9-805e-4ac1-84f0-b98eeddd4f13
X-WR-CALNAME:iCagenda
X-WR-CALDESC:Event Management Extension for Joomla!
X-WR-RELCALID:3E26604A-50F4-4449-8B3E-E4F4932D05B5
X-WR-TIMEZONE:UTC
BEGIN:VTIMEZONE
TZID:UTC
END:VTIMEZONE
BEGIN:VEVENT
UID:66cd4d10-fd58-49f1-81e4-3b17a18b7233
DTSTAMP:20260425T043134Z
CATEGORIES:Laboratori
CLASS:PUBLIC
DESCRIPTION:
DTSTART:20251009T093000Z
DTEND:20251009T113000Z
GEO:00;0
LOCATION:
ORGANIZER:
SEQUENCE:1
SUMMARY:Fotografiamo insieme
TRANSP:OPAQUE
URL:https://www.unitresanmauro.it/index.php/component/icagenda/124-fotograf
 iamo-insieme-2/2025-10-09-09-30
END:VEVENT
END:VCALENDAR
