BEGIN:VCALENDAR
VERSION:2.0
PRODID:-//Unitre San Mauro//NONSGML kigkonsult.se iCalcreator 2.30.10//
CALSCALE:GREGORIAN
METHOD:PUBLISH
UID:d0cb5ff5-3410-41ee-9755-07a0220cf7cb
X-WR-CALNAME:iCagenda
X-WR-CALDESC:Event Management Extension for Joomla!
X-WR-RELCALID:3E26604A-50F4-4449-8B3E-E4F4932D05B5
X-WR-TIMEZONE:UTC
BEGIN:VTIMEZONE
TZID:UTC
END:VTIMEZONE
BEGIN:VEVENT
UID:7a1500da-23f4-4578-a090-a80d57923858
DTSTAMP:20260425T043134Z
CATEGORIES:Laboratori
CLASS:PUBLIC
DESCRIPTION:
DTSTART:20251120T093000Z
DTEND:20251120T093000Z
GEO:00;0
LOCATION:
ORGANIZER:
SEQUENCE:1
SUMMARY:Fotografiamo insieme
TRANSP:OPAQUE
URL:https://www.unitresanmauro.it/index.php/component/icagenda/124-fotograf
 iamo-insieme-2/2025-11-20-09-30
END:VEVENT
END:VCALENDAR
