BEGIN:VCALENDAR
VERSION:2.0
PRODID:-//Unitre San Mauro//NONSGML kigkonsult.se iCalcreator 2.30.10//
CALSCALE:GREGORIAN
METHOD:PUBLISH
UID:d4f93273-6c71-4404-818e-f12f86ee220f
X-WR-CALNAME:iCagenda
X-WR-CALDESC:Event Management Extension for Joomla!
X-WR-RELCALID:3E26604A-50F4-4449-8B3E-E4F4932D05B5
X-WR-TIMEZONE:UTC
BEGIN:VTIMEZONE
TZID:UTC
END:VTIMEZONE
BEGIN:VEVENT
UID:14dd30dd-9ea0-4aea-ac5e-2e03b87c8b4c
DTSTAMP:20260425T003746Z
CATEGORIES:Laboratori
CLASS:PUBLIC
DESCRIPTION:
DTSTART:20260115T093000Z
DTEND:20260115T093000Z
GEO:00;0
LOCATION:
ORGANIZER:
SEQUENCE:1
SUMMARY:Fotografiamo insieme
TRANSP:OPAQUE
URL:https://www.unitresanmauro.it/index.php/component/icagenda/124-fotograf
 iamo-insieme-2/2026-01-15-09-30
END:VEVENT
END:VCALENDAR
