BEGIN:VCALENDAR
VERSION:2.0
PRODID:-//Unitre San Mauro//NONSGML kigkonsult.se iCalcreator 2.30.10//
CALSCALE:GREGORIAN
METHOD:PUBLISH
UID:0056d062-38f8-4795-8b4d-ff36aa681fc9
X-WR-CALNAME:iCagenda
X-WR-CALDESC:Event Management Extension for Joomla!
X-WR-RELCALID:3E26604A-50F4-4449-8B3E-E4F4932D05B5
X-WR-TIMEZONE:UTC
BEGIN:VTIMEZONE
TZID:UTC
END:VTIMEZONE
BEGIN:VEVENT
UID:1f098f35-65b9-4647-ad49-d6215d2f8de1
DTSTAMP:20260425T043055Z
CATEGORIES:Attività e movimento
CLASS:PUBLIC
DESCRIPTION:
DTSTART:20251106T093000Z
DTEND:20251106T113000Z
GEO:00;0
LOCATION:
ORGANIZER:
SEQUENCE:1
SUMMARY:Meditazione dinamica ( corso a numero chiuso) - c/o Piscina Gramsci
 \, via del porto 13\, San Mauro - Palestra Grande
TRANSP:OPAQUE
URL:https://www.unitresanmauro.it/index.php/component/icagenda/125-meditazi
 one-dinamica-corso-a-numero-chiuso/2025-11-06-09-30
END:VEVENT
END:VCALENDAR
