BEGIN:VCALENDAR
VERSION:2.0
PRODID:-//Unitre San Mauro//NONSGML kigkonsult.se iCalcreator 2.30.10//
CALSCALE:GREGORIAN
METHOD:PUBLISH
UID:5c513216-1918-4227-95b1-e20a2220b482
X-WR-CALNAME:iCagenda
X-WR-CALDESC:Event Management Extension for Joomla!
X-WR-RELCALID:3E26604A-50F4-4449-8B3E-E4F4932D05B5
X-WR-TIMEZONE:UTC
BEGIN:VTIMEZONE
TZID:UTC
END:VTIMEZONE
BEGIN:VEVENT
UID:bbdd81fd-37b1-4728-b9a1-b563ae218ebe
DTSTAMP:20260425T041316Z
CATEGORIES:Attività e movimento
CLASS:PUBLIC
DESCRIPTION:
DTSTART:20251125T093000Z
DTEND:20251125T093000Z
GEO:00;0
LOCATION:
ORGANIZER:
SEQUENCE:1
SUMMARY:Biodanza : Corso avanzato ( corso a numero chiuso) - c/o Piscina Gr
 amsci\, via del porto 13\, San Mauro - Palestra Grande
TRANSP:OPAQUE
URL:https://www.unitresanmauro.it/index.php/component/icagenda/126-biodanza
 -corso-avanzato-corso-a-numero-chiuso/2025-11-25-09-30
END:VEVENT
END:VCALENDAR
